{"text_format":"3","workbook":"xlsx","n_sheets":2,"sheets":["Sheet1","Sheet2"],"not_rendered":{"external_links":1},"read":"whole","date_system":"1900"}

{"sheet":"Sheet1","index":0,"n_rows":12,"n_cols":3,"rows_kept":12,"merged":[[0,0,0,2]]}
["2022年度高校思想政治工作中青年骨干队伍建设项目公示名单"]
[{"$f":"[1]Sheet2!K1","v":"排名"},{"$f":"[1]Sheet2!L1","v":"姓名"},{"$f":"[1]Sheet2!M1","v":"学校"}]
[{"$f":"[1]Sheet2!K2","v":1},{"$f":"[1]Sheet2!L2","v":"杨子强"},{"$f":"[1]Sheet2!M2","v":"中国人民大学"}]
[{"$f":"[1]Sheet2!K3","v":2},{"$f":"[1]Sheet2!L3","v":"祝  鑫"},{"$f":"[1]Sheet2!M3","v":"华中农业大学"}]
[{"$f":"[1]Sheet2!K4","v":3},{"$f":"[1]Sheet2!L4","v":"李青山"},{"$f":"[1]Sheet2!M4","v":"沈阳工业大学"}]
[{"$f":"[1]Sheet2!K5","v":4},{"$f":"[1]Sheet2!L5","v":"姚  崇"},{"$f":"[1]Sheet2!M5","v":"陕西师范大学"}]
[{"$f":"[1]Sheet2!K6","v":5},{"$f":"[1]Sheet2!L6","v":"陶好飞"},{"$f":"[1]Sheet2!M6","v":"对外经济贸易大学"}]
[{"$f":"[1]Sheet2!K7","v":6},{"$f":"[1]Sheet2!L7","v":"刘雅然"},{"$f":"[1]Sheet2!M7","v":"华中科技大学"}]
[{"$f":"[1]Sheet2!K8","v":7},{"$f":"[1]Sheet2!L8","v":"周小李"},{"$f":"[1]Sheet2!M8","v":"怀化学院"}]
[{"$f":"[1]Sheet2!K9","v":8},{"$f":"[1]Sheet2!L9","v":"李前进"},{"$f":"[1]Sheet2!M9","v":"南京师范大学"}]
[{"$f":"[1]Sheet2!K10","v":9},{"$f":"[1]Sheet2!L10","v":"王银思"},{"$f":"[1]Sheet2!M10","v":"燕山大学"}]
[{"$f":"[1]Sheet2!K11","v":10},{"$f":"[1]Sheet2!L11","v":"王淑娉"},{"$f":"[1]Sheet2!M11","v":"浙江师范大学"}]

{"sheet":"Sheet2","index":1,"n_rows":13,"n_cols":3,"rows_kept":13,"merged":[[0,0,0,2],[1,0,1,2]]}
["2022年高校思想政治工作中青年骨干队伍建设项目公示名单"]
["（按姓氏笔画排序）"]
["序号","姓名","学校"]
[1,"王银思","燕山大学"]
[2,"王淑娉","浙江师范大学"]
[3,"刘雅然","华中科技大学"]
[4,"李青山","沈阳工业大学"]
[5,"李前进","南京师范大学"]
[6,"杨子强","中国人民大学"]
[7,"周小李","怀化学院"]
[8,"祝  鑫","华中农业大学"]
[9,"姚  崇","陕西师范大学"]
[10,"陶好飞","对外经济贸易大学"]